BEGIN:VCALENDAR
VERSION:2.0
PRODID:-//gyrobase/iCalendar//NONSGML v1.0//EN
BEGIN:VEVENT
LOCATION:2727 W Tangerine Road\,Tucson\, \,Tucson\, AZ\, 85742
DTSTART:20260426T160000
DTEND:20260426T173000
SUMMARY:American Voices
DESCRIPTION:The Arizona Repertory Singers celebrates the 250th birthday of the United States with their spring program\, American Voices. The concerts assemble some of the most renowned composers from across genres Price: $22.00
LOCATION;ALTREP="https://www.tucsonweekly.com/tucson/st-mark-catholic-church/Location?oid=6050536":St Mark Catholic Church @ 2727 W Tangerine Road\,Tucson\,AZ  85742
CATEGORIES:Live Music
END:VEVENT
END:VCALENDAR