BEGIN:VCALENDAR
VERSION:2.0
PRODID:-//gyrobase/iCalendar//NONSGML v1.0//EN
BEGIN:VEVENT
LOCATION:4300 E. Sunrise Drive.\,Tucson\, \,Tucson\, AZ\, 85718
DTSTART:20260425T150000
DTEND:20260425T160000
SUMMARY:Breathing in the Awe
DESCRIPTION:Tucson Masterworks Chorale presents Breathing in the Awe\, celebrating America’s National Parks and 250th birthday with choral works by American-born composers and original compositions by Artistic Director Luke Diamond. Price: General Admission $20 | Students $10
LOCATION;ALTREP="https://www.tucsonweekly.com/tucson/catalina-foothills-high-school/Location?oid=1102876":Catalina Foothills High School @ 4300 E. Sunrise Drive.\,Tucson\,AZ  85718
CATEGORIES:Music (Classical\, Opera\, Jazz\, Folk)
END:VEVENT
END:VCALENDAR