BEGIN:VCALENDAR
VERSION:2.0
PRODID:-//gyrobase/iCalendar//NONSGML v1.0//EN
BEGIN:VEVENT
LOCATION:3400 E Zoo Court\,Tucson\, \,Tucson\, AZ\, 85716
DTSTART:20260424T090000
DTEND:20260424T120000
SUMMARY:Little Critters: Earth Day Celebration
DESCRIPTION:These interactive programs encourage families to learn about the animal world together. Each program features a different animal theme and includes animal ambassador encounters\, movement-based activities\, and a simple craft. Price: $20 for Zoo Member children $28 for Non-Member children
LOCATION;ALTREP="https://www.tucsonweekly.com/tucson/reid-park-zoo/Location?oid=11435529":Reid Park Zoo @ 3400 E Zoo Court\,Tucson\,AZ  85716
CATEGORIES:Family Fun
END:VEVENT
END:VCALENDAR