BEGIN:VCALENDAR
VERSION:2.0
PRODID:-//gyrobase/iCalendar//NONSGML v1.0//EN
BEGIN:VEVENT
LOCATION:Casino del Sol\, 5655 W. Valencia Road.\,Tucson\, \,Tucson\, AZ
DTSTART:20260725T200000
DTEND:20260725T230000
SUMMARY:Hip Hop Group Cypress Hill Coming to Tucson
DESCRIPTION:Southern Arizona fans are in for a legendary summer night as Cypress Hill brings its Once Upon A Time in the Summer 2026 Tour to AVA Amphitheater. Price: Various
LOCATION;ALTREP="https://www.tucsonweekly.com/tucson/ava-anselmo-valencia-tori-amphitheater/Location?oid=1101987":AVA: Anselmo Valencia Tori Amphitheater @ Casino del Sol\, 5655 W. Valencia Road.\,Tucson\,AZ
CATEGORIES:Live Music
END:VEVENT
END:VCALENDAR