BEGIN:VCALENDAR
VERSION:2.0
PRODID:-//gyrobase/iCalendar//NONSGML v1.0//EN
BEGIN:VEVENT
LOCATION:13005 N Oracle #165\,Oro Valley\, \,Oro Valley\, AZ\, 85739
DTSTART:20260424T190000
DTEND:20260424T210000
SUMMARY:Rockin' The Night Away
DESCRIPTION:No Reply consists of an eclectic group of musicians from diverse backgrounds. Featuring tight vocals\, guitar\, bass\, keys\, harmonica\, horns and violin\, No Reply covers a wide variety of classic Price: $23
LOCATION;ALTREP="https://www.tucsonweekly.com/tucson/gaslight-music-hall-oro-valley/Location?oid=27352152":Gaslight Music Hall Oro Valley @ 13005 N Oracle #165\,Oro Valley\,AZ  85739
CATEGORIES:Live Music
END:VEVENT
END:VCALENDAR