BEGIN:VCALENDAR
VERSION:2.0
PRODID:-//gyrobase/iCalendar//NONSGML v1.0//EN
BEGIN:VEVENT
LOCATION:4000 N. Silverbell Road.\,Tucson\, \,Tucson\, AZ\, 85745
DTSTART:20260502T130000
DTEND:20260502T150000
SUMMARY:Paint for PACC
DESCRIPTION:Paint for PACC while meeting adoptable animals on the Pima Animal Care Center campus! This event is a fantastic opportunity to support PACC. Price: $45
LOCATION;ALTREP="https://www.tucsonweekly.com/tucson/pima-animal-care-center/Location?oid=1102369":Pima Animal Care Center @ 4000 N. Silverbell Road.\,Tucson\,AZ  85745
CATEGORIES:Art
END:VEVENT
END:VCALENDAR