BEGIN:VCALENDAR
VERSION:2.0
PRODID:-//gyrobase/iCalendar//NONSGML v1.0//EN
BEGIN:VEVENT
LOCATION:7493 N. Oracle Road\,Tucson\, \,Tucson\, AZ\, 85704
DTSTART:20260601T083000
DTEND:20260601T153000
RRULE:FREQ=WEEKLY;INTERVAL=1;UNTIL=20260731;BYDAY=FR,MO,TH,TU,WE
SUMMARY:Inclusive Summertime Curiosity Camp for Kids and Teens of ALL Abilities!
DESCRIPTION:Summertime Curiosity Camp for kids and teens of all abilities and special needs! June 29-July 3 excluded Price: $275-$2500
LOCATION;ALTREP="https://www.tucsonweekly.com/tucson/integrative-touch-healing-center/Location?oid=34955208":Integrative Touch Healing Center @ 7493 N. Oracle Road\,Tucson\,AZ  85704
CATEGORIES:Well-Being
END:VEVENT
END:VCALENDAR