BEGIN:VCALENDAR
VERSION:2.0
PRODID:-//gyrobase/iCalendar//NONSGML v1.0//EN
BEGIN:VEVENT
LOCATION:11165 North La Cañada Drive\,Oro Valley\, \,Oro Valley\, AZ\, 85737
DTSTART:20260628T133000
DTEND:20260628T163000
SUMMARY:Koi Pond Paint and Sip in Oro Valley
DESCRIPTION:Join us for pizza\, art and fun at indoor Oro Valley Pizza & Pints! Price: $45
LOCATION;ALTREP="https://www.tucsonweekly.com/tucson/ov-pizza-and-pints/Location?oid=36243184":OV Pizza & Pints @ 11165 North La Cañada Drive\,Oro Valley\,AZ  85737
CATEGORIES:Art
END:VEVENT
END:VCALENDAR