BEGIN:VCALENDAR
VERSION:2.0
PRODID:-//gyrobase/iCalendar//NONSGML v1.0//EN
BEGIN:VEVENT
LOCATION:7493 N. Oracle Road\,Tucson\, \,Tucson\, AZ\, 85704
DTSTART:20260409T163000
DTEND:20260409T174500
RRULE:FREQ=WEEKLY;INTERVAL=1;UNTIL=20260514;BYDAY=TH
SUMMARY:Kind Creatures Afterschool Camp
DESCRIPTION:Each week\, a special animal or nature-themed specialist will guide us in an indoor unique experience welcoming a different guest animal creature or activity. Price: $225
LOCATION;ALTREP="https://www.tucsonweekly.com/tucson/integrative-touch-healing-center/Location?oid=34955208":Integrative Touch Healing Center @ 7493 N. Oracle Road\,Tucson\,AZ  85704
CATEGORIES:Well-Being
END:VEVENT
BEGIN:VEVENT
LOCATION:7493 N. Oracle Road\,Tucson\, \,Tucson\, AZ\, 85704
DTSTART:20260409T180000
DTEND:20260409T191500
RRULE:FREQ=WEEKLY;INTERVAL=1;UNTIL=20260514;BYDAY=TH
SUMMARY:Kind Creatures Afterschool Camp
DESCRIPTION:Each week\, a special animal or nature-themed specialist will guide us in an indoor unique experience welcoming a different guest animal creature or activity. Price: $225
LOCATION;ALTREP="https://www.tucsonweekly.com/tucson/integrative-touch-healing-center/Location?oid=34955208":Integrative Touch Healing Center @ 7493 N. Oracle Road\,Tucson\,AZ  85704
CATEGORIES:Well-Being
END:VEVENT
END:VCALENDAR