BEGIN:VCALENDAR
VERSION:2.0
PRODID:-//gyrobase/iCalendar//NONSGML v1.0//EN
BEGIN:VEVENT
LOCATION:13005 N Oracle #165\,Oro Valley\, \,Oro Valley\, AZ\, 85739
DTSTART:20260430T180000
DTEND:20260430T200000
SUMMARY:Back to Back
DESCRIPTION:Join Gaslight Favorites\, Armen Dirtadian and David Fanning as they sing The hits of Tom Jones and Engelbert Humperdinck! You will swoon to hits like "Please Release me"\, "Delilah"\, "Quando\, Price: $31
LOCATION;ALTREP="https://www.tucsonweekly.com/tucson/gaslight-music-hall-oro-valley/Location?oid=27352152":Gaslight Music Hall Oro Valley @ 13005 N Oracle #165\,Oro Valley\,AZ  85739
CATEGORIES:Live Music
END:VEVENT
END:VCALENDAR