BEGIN:VCALENDAR
VERSION:2.0
PRODID:-//gyrobase/iCalendar//NONSGML v1.0//EN
BEGIN:VEVENT
LOCATION:13005 N Oracle #165\,Oro Valley\, \,Oro Valley\, AZ\, 85739
DTSTART:20260501T180000
DTEND:20260501T200000
SUMMARY:Vintage Rock *Dance Party*
DESCRIPTION:Shell Shock - a local favorite for the past 27 years with all 4 original members playing 60's and 70's Classic Rock dance music with a few 80's songs thrown Price: $31
LOCATION;ALTREP="https://www.tucsonweekly.com/tucson/gaslight-music-hall-oro-valley/Location?oid=27352152":Gaslight Music Hall Oro Valley @ 13005 N Oracle #165\,Oro Valley\,AZ  85739
CATEGORIES:Live Music
END:VEVENT
END:VCALENDAR