BEGIN:VCALENDAR
VERSION:2.0
PRODID:-//gyrobase/iCalendar//NONSGML v1.0//EN
BEGIN:VEVENT
LOCATION:2900 N. Craycroft Road.\,Tucson\, \,Tucson\, AZ\, 85712
DTSTART:20260608T083000
DTEND:20260608T150000
SUMMARY:Hands-On History Summer Camp at the Fort Lowell Museum
DESCRIPTION:With a mixture of science\, history\, culture\, and art\, Presidio Museum and Fort Lowell camps will engage your child with a variety of hands-on activities and demonstrations in a unique Price: 57.00
LOCATION;ALTREP="https://www.tucsonweekly.com/tucson/fort-lowell-museum/Location?oid=1101870":Fort Lowell Museum @ 2900 N. Craycroft Road.\,Tucson\,AZ  85712
CATEGORIES:Art
END:VEVENT
END:VCALENDAR