BEGIN:VCALENDAR
VERSION:2.0
PRODID:-//gyrobase/iCalendar//NONSGML v1.0//EN
BEGIN:VEVENT
LOCATION:260 S Church Ave\,Tucson\, \,Tucson\, AZ\, 85701
DTSTART;VALUE=DATE:20260606
DTEND;VALUE=DATE:20260607
SUMMARY:John Mulaney: Mister Whatever
DESCRIPTION:John Mulaney: Mister Whatever @ The Linda Ronstadt Music Hall on June 6. Price: $98
LOCATION;ALTREP="https://www.tucsonweekly.com/tucson/linda-ronstadt-music-hall/Location?oid=33105752":Linda Ronstadt Music Hall @ 260 S Church Ave\,Tucson\,AZ  85701
CATEGORIES:Comedy & Storytellers
END:VEVENT
END:VCALENDAR