BEGIN:VCALENDAR
VERSION:2.0
PRODID:-//gyrobase/iCalendar//NONSGML v1.0//EN
BEGIN:VEVENT
LOCATION:4300 E. Sunrise Drive.\,Tucson\, \,Tucson\, AZ
DTSTART:20260425T150000
DTEND:20260425T170000
SUMMARY:Tucson Masterworks Chorale presents Breathing in the Awe
DESCRIPTION:Celebrate America's 250th with our spring concert\, featuring notable works by iconic American composers alongside the premiere of Breathing in the Awe\, a composition in honor of our National Parks. Price: $20 General Admission\; $10 Student Admission
LOCATION;ALTREP="https://www.tucsonweekly.com/tucson/catalina-foothills-high-school-auditorium/Location?oid=1101384":Catalina Foothills High School Auditorium @ 4300 E. Sunrise Drive.\,Tucson\,AZ
CATEGORIES:Music (Classical\, Opera\, Jazz\, Folk)
END:VEVENT
END:VCALENDAR