BEGIN:VCALENDAR
VERSION:2.0
PRODID:-//gyrobase/iCalendar//NONSGML v1.0//EN
BEGIN:VEVENT
LOCATION:606 N. Fourth Ave.\,Tucson\, \,Tucson\, AZ
DTSTART:20260423T180000
DTEND:20260423T193000
SUMMARY:In Process: Frankie Rollins and Kimi Eisele Share Works-in-Progress
DESCRIPTION:An evening of writing energy! Authors Frankie Rollins and Kimi Eisele share from in-process novels & speak to what drives the writing forward. Readings followed by Q&A. Price: FREE
LOCATION;ALTREP="https://www.tucsonweekly.com/tucson/revolutionary-grounds/Location?oid=1219959":Revolutionary Grounds @ 606 N. Fourth Ave.\,Tucson\,AZ
CATEGORIES:Literature
END:VEVENT
END:VCALENDAR