BEGIN:VCALENDAR
VERSION:2.0
PRODID:-//gyrobase/iCalendar//NONSGML v1.0//EN
BEGIN:VEVENT
LOCATION:225 E. 26th St.\,Tucson\, \,Tucson\, AZ\, 85713
SUMMARY:¡Bocon! Theater Performance
DESCRIPTION:Teatro Dignidad presents\, ¡BOCÓN! by Lisa Loomer. 🗣️🎭 Performances: April 15–May 3\, 2026 🗓️ Tickets and more info: https://teatrodignidad.org/bocon/ 🎫 Children 10 and under- FREE! Price: $25
LOCATION;ALTREP="https://www.tucsonweekly.com/tucson/global-justice-center/Location?oid=3845861":Global Justice Center @ 225 E. 26th St.\,Tucson\,AZ  85713
CATEGORIES:Performing Arts
END:VEVENT
BEGIN:VEVENT
LOCATION:225 E. 26th St.\,Tucson\, \,Tucson\, AZ\, 85713
SUMMARY:¡Bocon! Theater Performance
DESCRIPTION:Teatro Dignidad presents\, ¡BOCÓN! by Lisa Loomer. 🗣️🎭 Performances: April 15–May 3\, 2026 🗓️ Tickets and more info: https://teatrodignidad.org/bocon/ 🎫 Children 10 and under- FREE! Price: $25
LOCATION;ALTREP="https://www.tucsonweekly.com/tucson/global-justice-center/Location?oid=3845861":Global Justice Center @ 225 E. 26th St.\,Tucson\,AZ  85713
CATEGORIES:Performing Arts
END:VEVENT
BEGIN:VEVENT
LOCATION:225 E. 26th St.\,Tucson\, \,Tucson\, AZ\, 85713
DTSTART:20260424T193000
DTEND:20260424T203000
SUMMARY:¡Bocon! Theater Performance
DESCRIPTION:Teatro Dignidad presents\, ¡BOCÓN! by Lisa Loomer. 🗣️🎭 Performances: April 15–May 3\, 2026 🗓️ Tickets and more info: https://teatrodignidad.org/bocon/ 🎫 Children 10 and under- FREE! Price: $25
LOCATION;ALTREP="https://www.tucsonweekly.com/tucson/global-justice-center/Location?oid=3845861":Global Justice Center @ 225 E. 26th St.\,Tucson\,AZ  85713
CATEGORIES:Performing Arts
END:VEVENT
BEGIN:VEVENT
LOCATION:225 E. 26th St.\,Tucson\, \,Tucson\, AZ\, 85713
DTSTART:20260425T193000
DTEND:20260425T203000
SUMMARY:¡Bocon! Theater Performance
DESCRIPTION:Teatro Dignidad presents\, ¡BOCÓN! by Lisa Loomer. 🗣️🎭 Performances: April 15–May 3\, 2026 🗓️ Tickets and more info: https://teatrodignidad.org/bocon/ 🎫 Children 10 and under- FREE! Price: $25
LOCATION;ALTREP="https://www.tucsonweekly.com/tucson/global-justice-center/Location?oid=3845861":Global Justice Center @ 225 E. 26th St.\,Tucson\,AZ  85713
CATEGORIES:Performing Arts
END:VEVENT
BEGIN:VEVENT
LOCATION:225 E. 26th St.\,Tucson\, \,Tucson\, AZ\, 85713
DTSTART:20260426T140000
DTEND:20260426T150000
SUMMARY:¡Bocon! Theater Performance
DESCRIPTION:Teatro Dignidad presents\, ¡BOCÓN! by Lisa Loomer. 🗣️🎭 Performances: April 15–May 3\, 2026 🗓️ Tickets and more info: https://teatrodignidad.org/bocon/ 🎫 Children 10 and under- FREE! Price: $25
LOCATION;ALTREP="https://www.tucsonweekly.com/tucson/global-justice-center/Location?oid=3845861":Global Justice Center @ 225 E. 26th St.\,Tucson\,AZ  85713
CATEGORIES:Performing Arts
END:VEVENT
BEGIN:VEVENT
LOCATION:225 E. 26th St.\,Tucson\, \,Tucson\, AZ\, 85713
DTSTART:20260501T193000
DTEND:20260501T203000
SUMMARY:¡Bocon! Theater Performance
DESCRIPTION:Teatro Dignidad presents\, ¡BOCÓN! by Lisa Loomer. 🗣️🎭 Performances: April 15–May 3\, 2026 🗓️ Tickets and more info: https://teatrodignidad.org/bocon/ 🎫 Children 10 and under- FREE! Price: $25
LOCATION;ALTREP="https://www.tucsonweekly.com/tucson/global-justice-center/Location?oid=3845861":Global Justice Center @ 225 E. 26th St.\,Tucson\,AZ  85713
CATEGORIES:Performing Arts
END:VEVENT
BEGIN:VEVENT
LOCATION:225 E. 26th St.\,Tucson\, \,Tucson\, AZ\, 85713
DTSTART:20260502T193000
DTEND:20260502T203000
SUMMARY:¡Bocon! Theater Performance
DESCRIPTION:Teatro Dignidad presents\, ¡BOCÓN! by Lisa Loomer. 🗣️🎭 Performances: April 15–May 3\, 2026 🗓️ Tickets and more info: https://teatrodignidad.org/bocon/ 🎫 Children 10 and under- FREE! Price: $25
LOCATION;ALTREP="https://www.tucsonweekly.com/tucson/global-justice-center/Location?oid=3845861":Global Justice Center @ 225 E. 26th St.\,Tucson\,AZ  85713
CATEGORIES:Performing Arts
END:VEVENT
BEGIN:VEVENT
LOCATION:225 E. 26th St.\,Tucson\, \,Tucson\, AZ\, 85713
DTSTART:20260503T140000
DTEND:20260503T150000
SUMMARY:¡Bocon! Theater Performance
DESCRIPTION:Teatro Dignidad presents\, ¡BOCÓN! by Lisa Loomer. 🗣️🎭 Performances: April 15–May 3\, 2026 🗓️ Tickets and more info: https://teatrodignidad.org/bocon/ 🎫 Children 10 and under- FREE! Price: $25
LOCATION;ALTREP="https://www.tucsonweekly.com/tucson/global-justice-center/Location?oid=3845861":Global Justice Center @ 225 E. 26th St.\,Tucson\,AZ  85713
CATEGORIES:Performing Arts
END:VEVENT
END:VCALENDAR