BEGIN:VCALENDAR
VERSION:2.0
PRODID:-//gyrobase/iCalendar//NONSGML v1.0//EN
BEGIN:VEVENT
LOCATION:3929 E Pima St.\,Tucson\, \,Tucson\, AZ\, 85712
DTSTART:20260425T130000
DTEND:20260425T141500
SUMMARY:FREE Stress-Free Workshop
DESCRIPTION:Practice time-tested relaxation techniques that you can take home and practice daily. Price: By Donation
LOCATION;ALTREP="https://www.tucsonweekly.com/tucson/the-yoga-connection/Location?oid=8981916":The Yoga Connection @ 3929 E Pima St.\,Tucson\,AZ  85712
CATEGORIES:Well-Being
END:VEVENT
END:VCALENDAR