BEGIN:VCALENDAR
VERSION:2.0
PRODID:-//gyrobase/iCalendar//NONSGML v1.0//EN
BEGIN:VEVENT
LOCATION:3929 E Pima St.\,Tucson\, \,Tucson\, AZ\, 85712
DTSTART:20260426T130000
DTEND:20260426T143000
SUMMARY:Restorative Yoga & Sound Renewel
DESCRIPTION:Practice restorative yoga\, a system of resetting our inner ability to restore balance to body and mind. We use props to release into gentle supported postures. Price: $20 or $15 All Access
LOCATION;ALTREP="https://www.tucsonweekly.com/tucson/the-yoga-connection/Location?oid=8981916":The Yoga Connection @ 3929 E Pima St.\,Tucson\,AZ  85712
CATEGORIES:Well-Being
END:VEVENT
END:VCALENDAR