BEGIN:VCALENDAR
VERSION:2.0
PRODID:-//gyrobase/iCalendar//NONSGML v1.0//EN
BEGIN:VEVENT
LOCATION:82 South Stone Avenue\,Tucson\, \,Tucson\, AZ\, 85701
DTSTART:20260424T190000
DTEND:20260424T210000
SUMMARY:I Do Men
DESCRIPTION:Renowned jazz artist Liz Cracchiolo presents this witty cabaret of singing men’s songs while examining life\, dating\, and identity in a world that revolves around them. Price: 35.00
LOCATION;ALTREP="https://www.tucsonweekly.com/tucson/unicorn-zebra-cocktail-bar/Location?oid=38020912":Unicorn Zebra Cocktail Bar @ 82 South Stone Avenue\,Tucson\,AZ  85701
CATEGORIES:Music (Classical\, Opera\, Jazz\, Folk)
END:VEVENT
END:VCALENDAR