BEGIN:VCALENDAR
VERSION:2.0
PRODID:-//gyrobase/iCalendar//NONSGML v1.0//EN
BEGIN:VEVENT
LOCATION:311 E. Congress St.\,Tucson\, \,Tucson\, AZ\, 85701
DTSTART:20260425T203000
DTEND:20260425T223000
SUMMARY:House of Heavy
DESCRIPTION:It’s not a party — it’s therapy at 120 decibels. House of Heavy is coming to Tucson on 25 April 2026\, taking over Club Congress for the loudest\, hardest\, Price: $21.33
LOCATION;ALTREP="https://www.tucsonweekly.com/tucson/club-congress/Location?oid=1102124":Club Congress @ 311 E. Congress St.\,Tucson\,AZ  85701
CATEGORIES:Dancing\, DJ\, Karaoke and Open Mic
END:VEVENT
END:VCALENDAR