BEGIN:VCALENDAR
VERSION:2.0
PRODID:-//gyrobase/iCalendar//NONSGML v1.0//EN
BEGIN:VEVENT
LOCATION:197 Toole Ave\,Tucson\, \,Tucson\, AZ\, 85701
DTSTART:20260430T190000
DTEND:20260430T200000
SUMMARY:Evicshen at Wave Archive
DESCRIPTION:San Francisco based experimental sound artist Victoria Shen (A.K.A. Evicshen) comes to Wave Archive Thursday April 30th\, in a duo set with Greg Saunier. Algae & Tentacles opens the night. Price: 15
LOCATION;ALTREP="https://www.tucsonweekly.com/tucson/wave-archive/Location?oid=36488484":Wave Archive @ 197 Toole Ave\,Tucson\,AZ  85701
CATEGORIES:Live Music
END:VEVENT
END:VCALENDAR