BEGIN:VCALENDAR
VERSION:2.0
PRODID:-//gyrobase/iCalendar//NONSGML v1.0//EN
BEGIN:VEVENT
LOCATION:831 E 17th St\,Tucson\, \,Tucson\, AZ\, 85719
DTSTART:20260508T190000
DTEND:20260508T200000
SUMMARY:Ora Cogan at Slow Body
DESCRIPTION:Ora Cogan comes to Tucson on May 8th at Slow Body Beer. She's joined by locals Dollhouse and Female Gaze. $15 at the door and advance\, doors 7:00pm. Price: 15
LOCATION;ALTREP="https://www.tucsonweekly.com/tucson/slow-body-beer-co/Location?oid=36526307":Slow Body Beer Co. @ 831 E 17th St\,Tucson\,AZ  85719
CATEGORIES:Live Music
END:VEVENT
END:VCALENDAR