BEGIN:VCALENDAR
VERSION:2.0
PRODID:-//gyrobase/iCalendar//NONSGML v1.0//EN
BEGIN:VEVENT
LOCATION:6622 E Tanque Verde Rd\,Tucson\, \,Tucson\, AZ\, 85715
DTSTART:20260514T120000
DTEND:20260514T230000
SUMMARY:Randy Rogers Band with William Beckmann
DESCRIPTION:Go Tucson and the Maverick Present Randy Rogers Band with William Beckmann on Thursday May 14th\, 2026. 6PM DOORS 21+ Price: $52.00
LOCATION;ALTREP="https://www.tucsonweekly.com/tucson/the-maverick/Location?oid=35820530":The Maverick @ 6622 E Tanque Verde Rd\,Tucson\,AZ  85715
CATEGORIES:Live Music
END:VEVENT
END:VCALENDAR