BEGIN:VCALENDAR
VERSION:2.0
PRODID:-//gyrobase/iCalendar//NONSGML v1.0//EN
BEGIN:VEVENT
LOCATION:3700 S. La Cholla Blvd.\,Tucson\, \,Tucson\, AZ
DTSTART:20260425T140000
DTEND:20260425T190000
SUMMARY:Healing 4 Tucson
DESCRIPTION:On April 25\, 2025\, believers from across the city are gathering at Kennedy Park for a day of powerful corporate worship\, intercession\, and supernatural healing. Free and open to everyone. Price: Free
LOCATION;ALTREP="https://www.tucsonweekly.com/tucson/john-f-kennedy-park/Location?oid=1103440":John F. Kennedy Park @ 3700 S. La Cholla Blvd.\,Tucson\,AZ
CATEGORIES:Special Events
END:VEVENT
END:VCALENDAR