BEGIN:VCALENDAR
VERSION:2.0
PRODID:-//gyrobase/iCalendar//NONSGML v1.0//EN
BEGIN:VEVENT
LOCATION:6800 N Camino Martin #160\,Tucson\, \,Tucson\, AZ\, 85741
DTSTART:20260620T160000
DTEND:20260620T200000
SUMMARY:Books&Brews
DESCRIPTION:Tucson Author Alliance & Button Brew House present Books&Brews\, an evening book market and signing event featuring 25+ local authors! Come grab a cold one and add to your TBR! Price: Free
LOCATION;ALTREP="https://www.tucsonweekly.com/tucson/button-brew-house/Location?oid=15409818":Button Brew House @ 6800 N Camino Martin #160\,Tucson\,AZ  85741
CATEGORIES:Special Events
END:VEVENT
END:VCALENDAR