BEGIN:VCALENDAR
VERSION:2.0
PRODID:-//gyrobase/iCalendar//NONSGML v1.0//EN
BEGIN:VEVENT
LOCATION:505 W. Miracle Mile\,Tucson\, \,Tucson\, AZ\, 85705
DTSTART:20260421T170000
DTEND:20260421T183000
SUMMARY:Tucson Community Meet & Greet
DESCRIPTION:Meet the Global Ties Arizona team in Tucson\, connect with community leaders\, and explore how international exchange programs strengthen Arizona’s global engagement. Price: Free
LOCATION;ALTREP="https://www.tucsonweekly.com/tucson/monterey-court/Location?oid=4898855":Monterey Court @ 505 W. Miracle Mile\,Tucson\,AZ  85705
CATEGORIES:Special Events
END:VEVENT
END:VCALENDAR