BEGIN:VCALENDAR
VERSION:2.0
PRODID:-//gyrobase/iCalendar//NONSGML v1.0//EN
BEGIN:VEVENT
LOCATION:300 E. University Blvd.\,Tucson\, \,Tucson\, AZ\, 85705
DTSTART:20260425T170000
DTEND:20260425T200000
SUMMARY:Expression Against Repression #3 Opening Event
DESCRIPTION:This is a grassroots exhibition featuring 40+ local artists! It's a testament to creative defiance and its power to spark personal and social change. *Entrance on 5th Av Price: Free
LOCATION;ALTREP="https://www.tucsonweekly.com/tucson/the-historic-y/Location?oid=7399276":The Historic Y @ 300 E. University Blvd.\,Tucson\,AZ  85705
CATEGORIES:Art
END:VEVENT
END:VCALENDAR