BEGIN:VCALENDAR
VERSION:2.0
PRODID:-//gyrobase/iCalendar//NONSGML v1.0//EN
BEGIN:VEVENT
LOCATION:825 Mount Lemmon Road.\,Oracle\, \,Oracle\, AZ\, 85623
DTSTART:20260425T100000
DTEND:20260425T160000
SUMMARY:Paranormal Festival Oracle AZ
DESCRIPTION:Enjoy a day of authors\, psychics\, variety of vendors\, guest speakers and exciting workshops. Evening Ghost Hunts available. Proceeds donated to Oracle Historical Society Price: $5 to $50
LOCATION;ALTREP="https://www.tucsonweekly.com/tucson/oracle-historical-society-and-acadia-ranch-museum/Location?oid=1102462":Oracle Historical Society and Acadia Ranch Museum @ 825 Mount Lemmon Road.\,Oracle\,AZ  85623
CATEGORIES:Special Events
END:VEVENT
BEGIN:VEVENT
LOCATION:825 Mount Lemmon Road.\,Oracle\, \,Oracle\, AZ\, 85623
DTSTART:20260425T180000
DTEND:20260425T230000
SUMMARY:Paranormal Festival Oracle AZ
DESCRIPTION:Enjoy a day of authors\, psychics\, variety of vendors\, guest speakers and exciting workshops. Evening Ghost Hunts available. Proceeds donated to Oracle Historical Society Price: $5 to $50
LOCATION;ALTREP="https://www.tucsonweekly.com/tucson/oracle-historical-society-and-acadia-ranch-museum/Location?oid=1102462":Oracle Historical Society and Acadia Ranch Museum @ 825 Mount Lemmon Road.\,Oracle\,AZ  85623
CATEGORIES:Special Events
END:VEVENT
END:VCALENDAR