BEGIN:VCALENDAR
VERSION:2.0
PRODID:-//gyrobase/iCalendar//NONSGML v1.0//EN
BEGIN:VEVENT
LOCATION:13005 N Oracle #165\,Oro Valley\, \,Oro Valley\, AZ\, 85739
DTSTART:20260503T180000
DTEND:20260503T200000
SUMMARY:Mariachi Extravaganza
DESCRIPTION:Join Mariachi Tapatio de Tucson with special guests Mariachi Los Diablitos and Folklorico Los Diablitos Azules from Sunnyside High School - and a special presentation debuting tonight - for a Price: $31
LOCATION;ALTREP="https://www.tucsonweekly.com/tucson/gaslight-music-hall-oro-valley/Location?oid=27352152":Gaslight Music Hall Oro Valley @ 13005 N Oracle #165\,Oro Valley\,AZ  85739
CATEGORIES:Live Music
END:VEVENT
END:VCALENDAR