BEGIN:VCALENDAR
VERSION:2.0
PRODID:-//gyrobase/iCalendar//NONSGML v1.0//EN
BEGIN:VEVENT
LOCATION:13005 N Oracle #165\,Oro Valley\, \,Oro Valley\, AZ\, 85739
DTSTART:20260507T180000
DTEND:20260507T200000
SUMMARY:Songs of Sinatra
DESCRIPTION:Enjoy an intimate evening with the many hit songs of Frank Sinatra. Featuring Chuck Moses with a 6 piece ensemble. You'll hear classic favorites such as "My Way\," "The Way Price: $31
LOCATION;ALTREP="https://www.tucsonweekly.com/tucson/gaslight-music-hall-oro-valley/Location?oid=27352152":Gaslight Music Hall Oro Valley @ 13005 N Oracle #165\,Oro Valley\,AZ  85739
CATEGORIES:Live Music
END:VEVENT
END:VCALENDAR