BEGIN:VCALENDAR
VERSION:2.0
PRODID:-//gyrobase/iCalendar//NONSGML v1.0//EN
BEGIN:VEVENT
LOCATION:2450 E. Fort Lowell Road.\,Tucson\, \,Tucson\, AZ\, 85719
DTSTART:20260509T110000
DTEND:20260509T130000
SUMMARY:Tucson Celtic Festival Association's 6th Annual Mother's Day Tea
DESCRIPTION:TCFA is serving up a full Traditional Afternoon Tea—dainty sandwiches\, warm scones\, and sweets galore—all to the rhythm of our spectacular Highland and Irish Dance Troupes. Price: $45
LOCATION;ALTREP="https://www.tucsonweekly.com/tucson/northminster-presbyterian-church/Location?oid=1101795":Northminster Presbyterian Church @ 2450 E. Fort Lowell Road.\,Tucson\,AZ  85719
CATEGORIES:Special Events
END:VEVENT
BEGIN:VEVENT
LOCATION:2450 E. Fort Lowell Road.\,Tucson\, \,Tucson\, AZ\, 85719
DTSTART:20260509T150000
DTEND:20260509T170000
SUMMARY:Tucson Celtic Festival Association's 6th Annual Mother's Day Tea
DESCRIPTION:TCFA is serving up a full Traditional Afternoon Tea—dainty sandwiches\, warm scones\, and sweets galore—all to the rhythm of our spectacular Highland and Irish Dance Troupes. Price: $45
LOCATION;ALTREP="https://www.tucsonweekly.com/tucson/northminster-presbyterian-church/Location?oid=1101795":Northminster Presbyterian Church @ 2450 E. Fort Lowell Road.\,Tucson\,AZ  85719
CATEGORIES:Special Events
END:VEVENT
END:VCALENDAR